BEGIN:VCALENDAR
VERSION:2.0
PRODID:-//GBC Test Site - ECPv6.15.20//NONSGML v1.0//EN
CALSCALE:GREGORIAN
METHOD:PUBLISH
X-WR-CALNAME:GBC Test Site
X-ORIGINAL-URL:https://gracebaptistbirmingham.org
X-WR-CALDESC:Events for GBC Test Site
REFRESH-INTERVAL;VALUE=DURATION:PT1H
X-Robots-Tag:noindex
X-PUBLISHED-TTL:PT1H
BEGIN:VTIMEZONE
TZID:America/Detroit
BEGIN:DAYLIGHT
TZOFFSETFROM:-0500
TZOFFSETTO:-0400
TZNAME:EDT
DTSTART:20230312T070000
END:DAYLIGHT
BEGIN:STANDARD
TZOFFSETFROM:-0400
TZOFFSETTO:-0500
TZNAME:EST
DTSTART:20231105T060000
END:STANDARD
BEGIN:DAYLIGHT
TZOFFSETFROM:-0500
TZOFFSETTO:-0400
TZNAME:EDT
DTSTART:20240310T070000
END:DAYLIGHT
BEGIN:STANDARD
TZOFFSETFROM:-0400
TZOFFSETTO:-0500
TZNAME:EST
DTSTART:20241103T060000
END:STANDARD
BEGIN:DAYLIGHT
TZOFFSETFROM:-0500
TZOFFSETTO:-0400
TZNAME:EDT
DTSTART:20250309T070000
END:DAYLIGHT
BEGIN:STANDARD
TZOFFSETFROM:-0400
TZOFFSETTO:-0500
TZNAME:EST
DTSTART:20251102T060000
END:STANDARD
END:VTIMEZONE
BEGIN:VTIMEZONE
TZID:America/New_York
BEGIN:DAYLIGHT
TZOFFSETFROM:-0500
TZOFFSETTO:-0400
TZNAME:EDT
DTSTART:20230312T070000
END:DAYLIGHT
BEGIN:STANDARD
TZOFFSETFROM:-0400
TZOFFSETTO:-0500
TZNAME:EST
DTSTART:20231105T060000
END:STANDARD
BEGIN:DAYLIGHT
TZOFFSETFROM:-0500
TZOFFSETTO:-0400
TZNAME:EDT
DTSTART:20240310T070000
END:DAYLIGHT
BEGIN:STANDARD
TZOFFSETFROM:-0400
TZOFFSETTO:-0500
TZNAME:EST
DTSTART:20241103T060000
END:STANDARD
BEGIN:DAYLIGHT
TZOFFSETFROM:-0500
TZOFFSETTO:-0400
TZNAME:EDT
DTSTART:20250309T070000
END:DAYLIGHT
BEGIN:STANDARD
TZOFFSETFROM:-0400
TZOFFSETTO:-0500
TZNAME:EST
DTSTART:20251102T060000
END:STANDARD
END:VTIMEZONE
BEGIN:VEVENT
DTSTART;TZID=America/Detroit:20241214T090000
DTEND;TZID=America/Detroit:20241214T173000
DTSTAMP:20260422T122209
CREATED:20241121T191309Z
LAST-MODIFIED:20241121T191309Z
UID:10000532-1734166800-1734197400@gracebaptistbirmingham.org
SUMMARY:PrimeTimers' Trip to Rooftop Reindeer Farm
DESCRIPTION:Breakfast at Big Boy\, followed by a trip to Clare\, MI (subject to weather conditions)
URL:https://gracebaptistbirmingham.org/event/primetimers-trip-to-rooftop-reindeer-farm/
CATEGORIES:PrimeTimers
END:VEVENT
BEGIN:VEVENT
DTSTART;TZID=America/New_York:20241211T184500
DTEND;TZID=America/New_York:20241211T201000
DTSTAMP:20260422T122209
CREATED:20240809T155310Z
LAST-MODIFIED:20241030T175931Z
UID:10000369-1733942700-1733947800@gracebaptistbirmingham.org
SUMMARY:AWANA
DESCRIPTION:
URL:https://gracebaptistbirmingham.org/event/awana-2/2024-12-11/
CATEGORIES:AWANA,AWANA Workers
END:VEVENT
BEGIN:VEVENT
DTSTART;TZID=America/New_York:20241210T093000
DTEND;TZID=America/New_York:20241210T103000
DTSTAMP:20260422T122209
CREATED:20240829T192114Z
LAST-MODIFIED:20241030T175557Z
UID:10000305-1733823000-1733826600@gracebaptistbirmingham.org
SUMMARY:Ladies' Bible Study
DESCRIPTION:“Walking with Christ”
URL:https://gracebaptistbirmingham.org/event/ladies-bible-study-5/2024-12-10/
CATEGORIES:Women
END:VEVENT
BEGIN:VEVENT
DTSTART;TZID=America/Detroit:20241206T180000
DTEND;TZID=America/Detroit:20241206T210000
DTSTAMP:20260422T122209
CREATED:20241121T191130Z
LAST-MODIFIED:20241121T191130Z
UID:10000531-1733508000-1733518800@gracebaptistbirmingham.org
SUMMARY:Life Builders Class Christmas Fellowship
DESCRIPTION:At the home of Jim & Joan
URL:https://gracebaptistbirmingham.org/event/life-builders-class-christmas-fellowship/
CATEGORIES:Life Builders
END:VEVENT
BEGIN:VEVENT
DTSTART;TZID=America/Detroit:20241206T100000
DTEND;TZID=America/Detroit:20241206T150000
DTSTAMP:20260422T122209
CREATED:20241121T191032Z
LAST-MODIFIED:20241121T191032Z
UID:10000530-1733479200-1733497200@gracebaptistbirmingham.org
SUMMARY:Christmas Decorating
DESCRIPTION:
URL:https://gracebaptistbirmingham.org/event/christmas-decorating/
END:VEVENT
BEGIN:VEVENT
DTSTART;TZID=America/New_York:20241204T184500
DTEND;TZID=America/New_York:20241204T201000
DTSTAMP:20260422T122209
CREATED:20240809T155310Z
LAST-MODIFIED:20241030T175931Z
UID:10000368-1733337900-1733343000@gracebaptistbirmingham.org
SUMMARY:AWANA
DESCRIPTION:
URL:https://gracebaptistbirmingham.org/event/awana-2/2024-12-04/
CATEGORIES:AWANA,AWANA Workers
END:VEVENT
BEGIN:VEVENT
DTSTART;TZID=America/New_York:20241203T093000
DTEND;TZID=America/New_York:20241203T103000
DTSTAMP:20260422T122209
CREATED:20240829T192114Z
LAST-MODIFIED:20241030T175557Z
UID:10000304-1733218200-1733221800@gracebaptistbirmingham.org
SUMMARY:Ladies' Bible Study
DESCRIPTION:“Walking with Christ”
URL:https://gracebaptistbirmingham.org/event/ladies-bible-study-5/2024-12-03/
CATEGORIES:Women
END:VEVENT
BEGIN:VEVENT
DTSTART;TZID=America/Detroit:20241129T130000
DTEND;TZID=America/Detroit:20241129T143000
DTSTAMP:20260422T122209
CREATED:20241115T180217Z
LAST-MODIFIED:20241115T180217Z
UID:10000529-1732885200-1732890600@gracebaptistbirmingham.org
SUMMARY:Teens' Turkey Bowl
DESCRIPTION:Flag football game at St. James Park for teens\, former youth group members\, and their families
URL:https://gracebaptistbirmingham.org/event/teens-turkey-bowl-2/
CATEGORIES:Teens
END:VEVENT
BEGIN:VEVENT
DTSTART;VALUE=DATE:20241128
DTEND;VALUE=DATE:20241129
DTSTAMP:20260422T122209
CREATED:20241016T163446Z
LAST-MODIFIED:20241016T163446Z
UID:10000294-1732752000-1732838399@gracebaptistbirmingham.org
SUMMARY:Thanksgiving
DESCRIPTION:
URL:https://gracebaptistbirmingham.org/event/thanksgiving-2/
END:VEVENT
BEGIN:VEVENT
DTSTART;TZID=America/Detroit:20241126T190000
DTEND;TZID=America/Detroit:20241126T200000
DTSTAMP:20260422T122209
CREATED:20241030T181410Z
LAST-MODIFIED:20241030T181410Z
UID:10000525-1732647600-1732651200@gracebaptistbirmingham.org
SUMMARY:Thanksgiving Praise Service
DESCRIPTION:
URL:https://gracebaptistbirmingham.org/event/thanksgiving-praise-service-2/
END:VEVENT
BEGIN:VEVENT
DTSTART;TZID=America/Detroit:20241124T191000
DTEND;TZID=America/Detroit:20241124T201000
DTSTAMP:20260422T122209
CREATED:20241115T180111Z
LAST-MODIFIED:20241115T180111Z
UID:10000528-1732475400-1732479000@gracebaptistbirmingham.org
SUMMARY:Special Business Meeting
DESCRIPTION:Building project
URL:https://gracebaptistbirmingham.org/event/special-business-meeting/
CATEGORIES:Members
END:VEVENT
BEGIN:VEVENT
DTSTART;TZID=America/Detroit:20241124T110000
DTEND;TZID=America/Detroit:20241124T120000
DTSTAMP:20260422T122209
CREATED:20241115T180020Z
LAST-MODIFIED:20241115T180020Z
UID:10000527-1732446000-1732449600@gracebaptistbirmingham.org
SUMMARY:Lord's Supper
DESCRIPTION:
URL:https://gracebaptistbirmingham.org/event/lords-supper-16/
END:VEVENT
BEGIN:VEVENT
DTSTART;TZID=America/New_York:20241121T190000
DTEND;TZID=America/New_York:20241121T210000
DTSTAMP:20260422T122209
CREATED:20240719T162638Z
LAST-MODIFIED:20251222T212754Z
UID:10000393-1732215600-1732222800@gracebaptistbirmingham.org
SUMMARY:Deacon Meeting
DESCRIPTION:
URL:https://gracebaptistbirmingham.org/event/deacon-meeting-3/2024-11-21/
CATEGORIES:Deacons
END:VEVENT
BEGIN:VEVENT
DTSTART;TZID=America/New_York:20241120T184500
DTEND;TZID=America/New_York:20241120T201000
DTSTAMP:20260422T122209
CREATED:20240809T155310Z
LAST-MODIFIED:20241030T175931Z
UID:10000367-1732128300-1732133400@gracebaptistbirmingham.org
SUMMARY:AWANA
DESCRIPTION:
URL:https://gracebaptistbirmingham.org/event/awana-2/2024-11-20/
CATEGORIES:AWANA,AWANA Workers
END:VEVENT
BEGIN:VEVENT
DTSTART;TZID=America/Detroit:20241120T174500
DTEND;TZID=America/Detroit:20241120T184500
DTSTAMP:20260422T122209
CREATED:20241030T180341Z
LAST-MODIFIED:20241030T180341Z
UID:10000389-1732124700-1732128300@gracebaptistbirmingham.org
SUMMARY:AWANA Thanksgiving Feast
DESCRIPTION:
URL:https://gracebaptistbirmingham.org/event/awana-thanksgiving-feast/
CATEGORIES:AWANA,AWANA Workers
END:VEVENT
BEGIN:VEVENT
DTSTART;TZID=America/New_York:20241119T093000
DTEND;TZID=America/New_York:20241119T103000
DTSTAMP:20260422T122209
CREATED:20240829T192114Z
LAST-MODIFIED:20241030T175557Z
UID:10000303-1732008600-1732012200@gracebaptistbirmingham.org
SUMMARY:Ladies' Bible Study
DESCRIPTION:“Walking with Christ”
URL:https://gracebaptistbirmingham.org/event/ladies-bible-study-5/2024-11-19/
CATEGORIES:Women
END:VEVENT
BEGIN:VEVENT
DTSTART;TZID=America/New_York:20241113T184500
DTEND;TZID=America/New_York:20241113T201000
DTSTAMP:20260422T122209
CREATED:20240809T155310Z
LAST-MODIFIED:20241030T175931Z
UID:10000366-1731523500-1731528600@gracebaptistbirmingham.org
SUMMARY:AWANA
DESCRIPTION:
URL:https://gracebaptistbirmingham.org/event/awana-2/2024-11-13/
CATEGORIES:AWANA,AWANA Workers
END:VEVENT
BEGIN:VEVENT
DTSTART;TZID=America/New_York:20241112T093000
DTEND;TZID=America/New_York:20241112T103000
DTSTAMP:20260422T122209
CREATED:20240829T192114Z
LAST-MODIFIED:20241030T175557Z
UID:10000302-1731403800-1731407400@gracebaptistbirmingham.org
SUMMARY:Ladies' Bible Study
DESCRIPTION:“Walking with Christ”
URL:https://gracebaptistbirmingham.org/event/ladies-bible-study-5/2024-11-12/
CATEGORIES:Women
END:VEVENT
BEGIN:VEVENT
DTSTART;TZID=America/Detroit:20241110T110000
DTEND;TZID=America/Detroit:20241110T120000
DTSTAMP:20260422T122209
CREATED:20241030T181101Z
LAST-MODIFIED:20241030T181101Z
UID:10000523-1731236400-1731240000@gracebaptistbirmingham.org
SUMMARY:Veterans Recognition Sunday
DESCRIPTION:
URL:https://gracebaptistbirmingham.org/event/veterans-recognition-sunday-2/
END:VEVENT
BEGIN:VEVENT
DTSTART;TZID=America/New_York:20241109T180000
DTEND;TZID=America/New_York:20241109T210000
DTSTAMP:20260422T122209
CREATED:20241016T163228Z
LAST-MODIFIED:20241016T163228Z
UID:10000293-1731175200-1731186000@gracebaptistbirmingham.org
SUMMARY:PrimeTimers' Potluck & Packing
DESCRIPTION:Bring a dish to share and cookies to pack for shut-ins.
URL:https://gracebaptistbirmingham.org/event/primetimers-potluck-packing/
CATEGORIES:PrimeTimers
END:VEVENT
BEGIN:VEVENT
DTSTART;TZID=America/New_York:20241109T140000
DTEND;TZID=America/New_York:20241109T160000
DTSTAMP:20260422T122209
CREATED:20241015T175052Z
LAST-MODIFIED:20241030T180411Z
UID:10000291-1731160800-1731168000@gracebaptistbirmingham.org
SUMMARY:Teens' Rake-a-Difference
DESCRIPTION:
URL:https://gracebaptistbirmingham.org/event/teens-rake-a-difference/
CATEGORIES:Teens
END:VEVENT
BEGIN:VEVENT
DTSTART;TZID=America/New_York:20241106T184500
DTEND;TZID=America/New_York:20241106T201000
DTSTAMP:20260422T122209
CREATED:20240809T155310Z
LAST-MODIFIED:20241030T175931Z
UID:10000365-1730918700-1730923800@gracebaptistbirmingham.org
SUMMARY:AWANA
DESCRIPTION:
URL:https://gracebaptistbirmingham.org/event/awana-2/2024-11-06/
CATEGORIES:AWANA,AWANA Workers
END:VEVENT
BEGIN:VEVENT
DTSTART;TZID=America/New_York:20241105T093000
DTEND;TZID=America/New_York:20241105T103000
DTSTAMP:20260422T122209
CREATED:20240829T192114Z
LAST-MODIFIED:20241030T175557Z
UID:10000301-1730799000-1730802600@gracebaptistbirmingham.org
SUMMARY:Ladies' Bible Study
DESCRIPTION:“Walking with Christ”
URL:https://gracebaptistbirmingham.org/event/ladies-bible-study-5/2024-11-05/
CATEGORIES:Women
END:VEVENT
BEGIN:VEVENT
DTSTART;TZID=America/Detroit:20241102T100000
DTEND;TZID=America/Detroit:20241102T200000
DTSTAMP:20260422T122209
CREATED:20241030T180509Z
LAST-MODIFIED:20241030T180509Z
UID:10000390-1730541600-1730577600@gracebaptistbirmingham.org
SUMMARY:Ladies' Craft Day
DESCRIPTION:
URL:https://gracebaptistbirmingham.org/event/ladies-craft-day-7/
CATEGORIES:Women
END:VEVENT
BEGIN:VEVENT
DTSTART;TZID=America/Detroit:20241030T195500
DTEND;TZID=America/Detroit:20241030T202000
DTSTAMP:20260422T122209
CREATED:20241030T181307Z
LAST-MODIFIED:20241030T181307Z
UID:10000524-1730318100-1730319600@gracebaptistbirmingham.org
SUMMARY:AWANA Trunk-o-Treat
DESCRIPTION:
URL:https://gracebaptistbirmingham.org/event/awana-trunk-o-treat/
CATEGORIES:AWANA,AWANA Workers
END:VEVENT
BEGIN:VEVENT
DTSTART;TZID=America/New_York:20241030T184500
DTEND;TZID=America/New_York:20241030T201000
DTSTAMP:20260422T122209
CREATED:20240809T155310Z
LAST-MODIFIED:20241030T175931Z
UID:10000364-1730313900-1730319000@gracebaptistbirmingham.org
SUMMARY:AWANA
DESCRIPTION:
URL:https://gracebaptistbirmingham.org/event/awana-2/2024-10-30/
CATEGORIES:AWANA,AWANA Workers
END:VEVENT
BEGIN:VEVENT
DTSTART;TZID=America/New_York:20241029T093000
DTEND;TZID=America/New_York:20241029T103000
DTSTAMP:20260422T122209
CREATED:20240829T192114Z
LAST-MODIFIED:20241030T175557Z
UID:10000300-1730194200-1730197800@gracebaptistbirmingham.org
SUMMARY:Ladies' Bible Study
DESCRIPTION:“Walking with Christ”
URL:https://gracebaptistbirmingham.org/event/ladies-bible-study-5/2024-10-29/
CATEGORIES:Women
END:VEVENT
BEGIN:VEVENT
DTSTART;TZID=America/New_York:20241027T180000
DTEND;TZID=America/New_York:20241027T190000
DTSTAMP:20260422T122209
CREATED:20240917T162155Z
LAST-MODIFIED:20240917T162155Z
UID:10000285-1730052000-1730055600@gracebaptistbirmingham.org
SUMMARY:Lord's Supper
DESCRIPTION:
URL:https://gracebaptistbirmingham.org/event/lords-supper-15/
END:VEVENT
BEGIN:VEVENT
DTSTART;TZID=America/New_York:20241027T100000
DTEND;TZID=America/New_York:20241027T120000
DTSTAMP:20260422T122209
CREATED:20240917T162133Z
LAST-MODIFIED:20240917T162133Z
UID:10000284-1730023200-1730030400@gracebaptistbirmingham.org
SUMMARY:Missionary Jeremy Dion
DESCRIPTION:
URL:https://gracebaptistbirmingham.org/event/missionary-jeremy-dion/
CATEGORIES:Missions
END:VEVENT
BEGIN:VEVENT
DTSTART;TZID=America/New_York:20241026T140000
DTEND;TZID=America/New_York:20241026T170000
DTSTAMP:20260422T122209
CREATED:20240917T162058Z
LAST-MODIFIED:20240917T162058Z
UID:10000283-1729951200-1729962000@gracebaptistbirmingham.org
SUMMARY:Teen's Cider Mill Trip
DESCRIPTION:Yates Cider Mill
URL:https://gracebaptistbirmingham.org/event/teens-cider-mill-trip/
CATEGORIES:Teens
END:VEVENT
END:VCALENDAR