BEGIN:VCALENDAR
VERSION:2.0
PRODID:-//GBC Test Site - ECPv6.15.20//NONSGML v1.0//EN
CALSCALE:GREGORIAN
METHOD:PUBLISH
X-WR-CALNAME:GBC Test Site
X-ORIGINAL-URL:https://gracebaptistbirmingham.org
X-WR-CALDESC:Events for GBC Test Site
REFRESH-INTERVAL;VALUE=DURATION:PT1H
X-Robots-Tag:noindex
X-PUBLISHED-TTL:PT1H
BEGIN:VTIMEZONE
TZID:America/Detroit
BEGIN:DAYLIGHT
TZOFFSETFROM:-0500
TZOFFSETTO:-0400
TZNAME:EDT
DTSTART:20230312T070000
END:DAYLIGHT
BEGIN:STANDARD
TZOFFSETFROM:-0400
TZOFFSETTO:-0500
TZNAME:EST
DTSTART:20231105T060000
END:STANDARD
BEGIN:DAYLIGHT
TZOFFSETFROM:-0500
TZOFFSETTO:-0400
TZNAME:EDT
DTSTART:20240310T070000
END:DAYLIGHT
BEGIN:STANDARD
TZOFFSETFROM:-0400
TZOFFSETTO:-0500
TZNAME:EST
DTSTART:20241103T060000
END:STANDARD
BEGIN:DAYLIGHT
TZOFFSETFROM:-0500
TZOFFSETTO:-0400
TZNAME:EDT
DTSTART:20250309T070000
END:DAYLIGHT
BEGIN:STANDARD
TZOFFSETFROM:-0400
TZOFFSETTO:-0500
TZNAME:EST
DTSTART:20251102T060000
END:STANDARD
BEGIN:DAYLIGHT
TZOFFSETFROM:-0500
TZOFFSETTO:-0400
TZNAME:EDT
DTSTART:20260308T070000
END:DAYLIGHT
BEGIN:STANDARD
TZOFFSETFROM:-0400
TZOFFSETTO:-0500
TZNAME:EST
DTSTART:20261101T060000
END:STANDARD
END:VTIMEZONE
BEGIN:VTIMEZONE
TZID:America/New_York
BEGIN:DAYLIGHT
TZOFFSETFROM:-0500
TZOFFSETTO:-0400
TZNAME:EDT
DTSTART:20240310T070000
END:DAYLIGHT
BEGIN:STANDARD
TZOFFSETFROM:-0400
TZOFFSETTO:-0500
TZNAME:EST
DTSTART:20241103T060000
END:STANDARD
BEGIN:DAYLIGHT
TZOFFSETFROM:-0500
TZOFFSETTO:-0400
TZNAME:EDT
DTSTART:20250309T070000
END:DAYLIGHT
BEGIN:STANDARD
TZOFFSETFROM:-0400
TZOFFSETTO:-0500
TZNAME:EST
DTSTART:20251102T060000
END:STANDARD
BEGIN:DAYLIGHT
TZOFFSETFROM:-0500
TZOFFSETTO:-0400
TZNAME:EDT
DTSTART:20260308T070000
END:DAYLIGHT
BEGIN:STANDARD
TZOFFSETFROM:-0400
TZOFFSETTO:-0500
TZNAME:EST
DTSTART:20261101T060000
END:STANDARD
END:VTIMEZONE
BEGIN:VEVENT
DTSTART;TZID=America/Detroit:20250311T093000
DTEND;TZID=America/Detroit:20250311T103000
DTSTAMP:20260422T183142
CREATED:20250113T201536Z
LAST-MODIFIED:20250113T201536Z
UID:10000548-1741685400-1741689000@gracebaptistbirmingham.org
SUMMARY:Ladies' Bible Study
DESCRIPTION:“Victorious Believers”
URL:https://gracebaptistbirmingham.org/event/ladies-bible-study-6/2025-03-11/
CATEGORIES:Women
END:VEVENT
BEGIN:VEVENT
DTSTART;TZID=America/New_York:20250305T184500
DTEND;TZID=America/New_York:20250305T201000
DTSTAMP:20260422T183142
CREATED:20240809T155310Z
LAST-MODIFIED:20241030T175931Z
UID:10000379-1741200300-1741205400@gracebaptistbirmingham.org
SUMMARY:AWANA
DESCRIPTION:
URL:https://gracebaptistbirmingham.org/event/awana-2/2025-03-05/
CATEGORIES:AWANA,AWANA Workers
END:VEVENT
BEGIN:VEVENT
DTSTART;TZID=America/Detroit:20250304T093000
DTEND;TZID=America/Detroit:20250304T103000
DTSTAMP:20260422T183142
CREATED:20250113T201536Z
LAST-MODIFIED:20250113T201536Z
UID:10000547-1741080600-1741084200@gracebaptistbirmingham.org
SUMMARY:Ladies' Bible Study
DESCRIPTION:“Victorious Believers”
URL:https://gracebaptistbirmingham.org/event/ladies-bible-study-6/2025-03-04/
CATEGORIES:Women
END:VEVENT
BEGIN:VEVENT
DTSTART;TZID=America/New_York:20250226T184500
DTEND;TZID=America/New_York:20250226T201000
DTSTAMP:20260422T183142
CREATED:20240809T155310Z
LAST-MODIFIED:20241030T175931Z
UID:10000378-1740595500-1740600600@gracebaptistbirmingham.org
SUMMARY:AWANA
DESCRIPTION:
URL:https://gracebaptistbirmingham.org/event/awana-2/2025-02-26/
CATEGORIES:AWANA,AWANA Workers
END:VEVENT
BEGIN:VEVENT
DTSTART;TZID=America/Detroit:20250225T093000
DTEND;TZID=America/Detroit:20250225T103000
DTSTAMP:20260422T183142
CREATED:20250113T201536Z
LAST-MODIFIED:20250113T201536Z
UID:10000546-1740475800-1740479400@gracebaptistbirmingham.org
SUMMARY:Ladies' Bible Study
DESCRIPTION:“Victorious Believers”
URL:https://gracebaptistbirmingham.org/event/ladies-bible-study-6/2025-02-25/
CATEGORIES:Women
END:VEVENT
BEGIN:VEVENT
DTSTART;TZID=America/New_York:20250220T190000
DTEND;TZID=America/New_York:20250220T210000
DTSTAMP:20260422T183142
CREATED:20240719T162638Z
LAST-MODIFIED:20251222T212754Z
UID:10000396-1740078000-1740085200@gracebaptistbirmingham.org
SUMMARY:Deacon Meeting
DESCRIPTION:
URL:https://gracebaptistbirmingham.org/event/deacon-meeting-3/2025-02-20/
CATEGORIES:Deacons
END:VEVENT
BEGIN:VEVENT
DTSTART;TZID=America/New_York:20250219T184500
DTEND;TZID=America/New_York:20250219T201000
DTSTAMP:20260422T183142
CREATED:20240809T155310Z
LAST-MODIFIED:20241030T175931Z
UID:10000377-1739990700-1739995800@gracebaptistbirmingham.org
SUMMARY:AWANA
DESCRIPTION:
URL:https://gracebaptistbirmingham.org/event/awana-2/2025-02-19/
CATEGORIES:AWANA,AWANA Workers
END:VEVENT
BEGIN:VEVENT
DTSTART;TZID=America/Detroit:20250218T093000
DTEND;TZID=America/Detroit:20250218T103000
DTSTAMP:20260422T183142
CREATED:20250113T201536Z
LAST-MODIFIED:20250113T201536Z
UID:10000545-1739871000-1739874600@gracebaptistbirmingham.org
SUMMARY:Ladies' Bible Study
DESCRIPTION:“Victorious Believers”
URL:https://gracebaptistbirmingham.org/event/ladies-bible-study-6/2025-02-18/
CATEGORIES:Women
END:VEVENT
BEGIN:VEVENT
DTSTART;TZID=America/Detroit:20250215T090000
DTEND;TZID=America/Detroit:20250215T120000
DTSTAMP:20260422T183142
CREATED:20250213T191107Z
LAST-MODIFIED:20250213T191107Z
UID:10000552-1739610000-1739620800@gracebaptistbirmingham.org
SUMMARY:Neighborhood Open House
DESCRIPTION:
URL:https://gracebaptistbirmingham.org/event/neighborhood-open-house/
END:VEVENT
BEGIN:VEVENT
DTSTART;TZID=America/New_York:20250212T184500
DTEND;TZID=America/New_York:20250212T201000
DTSTAMP:20260422T183142
CREATED:20240809T155310Z
LAST-MODIFIED:20241030T175931Z
UID:10000376-1739385900-1739391000@gracebaptistbirmingham.org
SUMMARY:AWANA
DESCRIPTION:
URL:https://gracebaptistbirmingham.org/event/awana-2/2025-02-12/
CATEGORIES:AWANA,AWANA Workers
END:VEVENT
BEGIN:VEVENT
DTSTART;TZID=America/Detroit:20250211T093000
DTEND;TZID=America/Detroit:20250211T103000
DTSTAMP:20260422T183142
CREATED:20250113T201536Z
LAST-MODIFIED:20250113T201536Z
UID:10000544-1739266200-1739269800@gracebaptistbirmingham.org
SUMMARY:Ladies' Bible Study
DESCRIPTION:“Victorious Believers”
URL:https://gracebaptistbirmingham.org/event/ladies-bible-study-6/2025-02-11/
CATEGORIES:Women
END:VEVENT
BEGIN:VEVENT
DTSTART;TZID=America/Detroit:20250209T193000
DTEND;TZID=America/Detroit:20250209T213000
DTSTAMP:20260422T183142
CREATED:20250113T201345Z
LAST-MODIFIED:20250113T201345Z
UID:10000538-1739129400-1739136600@gracebaptistbirmingham.org
SUMMARY:Teens' Super Bowl Party
DESCRIPTION:
URL:https://gracebaptistbirmingham.org/event/teens-super-bowl-party-2/
CATEGORIES:Teens
END:VEVENT
BEGIN:VEVENT
DTSTART;TZID=America/New_York:20250208T100000
DTEND;TZID=America/New_York:20250208T150000
DTSTAMP:20260422T183142
CREATED:20240814T165445Z
LAST-MODIFIED:20240814T165445Z
UID:10000274-1739008800-1739026800@gracebaptistbirmingham.org
SUMMARY:AWANA Grand Prix
DESCRIPTION:
URL:https://gracebaptistbirmingham.org/event/awana-grand-prix-2/
CATEGORIES:AWANA,AWANA Workers
END:VEVENT
BEGIN:VEVENT
DTSTART;TZID=America/New_York:20250205T184500
DTEND;TZID=America/New_York:20250205T201000
DTSTAMP:20260422T183142
CREATED:20240809T155310Z
LAST-MODIFIED:20241030T175931Z
UID:10000375-1738781100-1738786200@gracebaptistbirmingham.org
SUMMARY:AWANA
DESCRIPTION:
URL:https://gracebaptistbirmingham.org/event/awana-2/2025-02-05/
CATEGORIES:AWANA,AWANA Workers
END:VEVENT
BEGIN:VEVENT
DTSTART;TZID=America/Detroit:20250204T093000
DTEND;TZID=America/Detroit:20250204T103000
DTSTAMP:20260422T183142
CREATED:20250113T201536Z
LAST-MODIFIED:20250113T201536Z
UID:10000543-1738661400-1738665000@gracebaptistbirmingham.org
SUMMARY:Ladies' Bible Study
DESCRIPTION:“Victorious Believers”
URL:https://gracebaptistbirmingham.org/event/ladies-bible-study-6/2025-02-04/
CATEGORIES:Women
END:VEVENT
BEGIN:VEVENT
DTSTART;TZID=America/New_York:20250129T184500
DTEND;TZID=America/New_York:20250129T201000
DTSTAMP:20260422T183142
CREATED:20240809T155310Z
LAST-MODIFIED:20241030T175931Z
UID:10000374-1738176300-1738181400@gracebaptistbirmingham.org
SUMMARY:AWANA
DESCRIPTION:
URL:https://gracebaptistbirmingham.org/event/awana-2/2025-01-29/
CATEGORIES:AWANA,AWANA Workers
END:VEVENT
BEGIN:VEVENT
DTSTART;TZID=America/Detroit:20250128T093000
DTEND;TZID=America/Detroit:20250128T103000
DTSTAMP:20260422T183142
CREATED:20250113T201536Z
LAST-MODIFIED:20250113T201536Z
UID:10000542-1738056600-1738060200@gracebaptistbirmingham.org
SUMMARY:Ladies' Bible Study
DESCRIPTION:“Victorious Believers”
URL:https://gracebaptistbirmingham.org/event/ladies-bible-study-6/2025-01-28/
CATEGORIES:Women
END:VEVENT
BEGIN:VEVENT
DTSTART;TZID=America/New_York:20250125T100000
DTEND;TZID=America/New_York:20250125T130000
DTSTAMP:20260422T183142
CREATED:20240814T165341Z
LAST-MODIFIED:20240814T165341Z
UID:10000273-1737799200-1737810000@gracebaptistbirmingham.org
SUMMARY:AWANA Grand Prix Worskshop
DESCRIPTION:
URL:https://gracebaptistbirmingham.org/event/awana-grand-prix-worskshop/
CATEGORIES:AWANA,AWANA Workers
END:VEVENT
BEGIN:VEVENT
DTSTART;TZID=America/New_York:20250122T184500
DTEND;TZID=America/New_York:20250122T201000
DTSTAMP:20260422T183142
CREATED:20240809T155310Z
LAST-MODIFIED:20241030T175931Z
UID:10000373-1737571500-1737576600@gracebaptistbirmingham.org
SUMMARY:AWANA
DESCRIPTION:
URL:https://gracebaptistbirmingham.org/event/awana-2/2025-01-22/
CATEGORIES:AWANA,AWANA Workers
END:VEVENT
BEGIN:VEVENT
DTSTART;TZID=America/Detroit:20250121T093000
DTEND;TZID=America/Detroit:20250121T103000
DTSTAMP:20260422T183142
CREATED:20250113T201536Z
LAST-MODIFIED:20250113T201536Z
UID:10000541-1737451800-1737455400@gracebaptistbirmingham.org
SUMMARY:Ladies' Bible Study
DESCRIPTION:“Victorious Believers”
URL:https://gracebaptistbirmingham.org/event/ladies-bible-study-6/2025-01-21/
CATEGORIES:Women
END:VEVENT
BEGIN:VEVENT
DTSTART;TZID=America/Detroit:20250118T100000
DTEND;TZID=America/Detroit:20250118T200000
DTSTAMP:20260422T183142
CREATED:20250113T201415Z
LAST-MODIFIED:20250113T201415Z
UID:10000539-1737194400-1737230400@gracebaptistbirmingham.org
SUMMARY:Ladies' Craft Day
DESCRIPTION:
URL:https://gracebaptistbirmingham.org/event/ladies-craft-day-9/
CATEGORIES:Women
END:VEVENT
BEGIN:VEVENT
DTSTART;TZID=America/New_York:20250116T190000
DTEND;TZID=America/New_York:20250116T210000
DTSTAMP:20260422T183142
CREATED:20240719T162638Z
LAST-MODIFIED:20251222T212754Z
UID:10000395-1737054000-1737061200@gracebaptistbirmingham.org
SUMMARY:Deacon Meeting
DESCRIPTION:
URL:https://gracebaptistbirmingham.org/event/deacon-meeting-3/2025-01-16/
CATEGORIES:Deacons
END:VEVENT
BEGIN:VEVENT
DTSTART;TZID=America/New_York:20250115T184500
DTEND;TZID=America/New_York:20250115T201000
DTSTAMP:20260422T183142
CREATED:20240809T155310Z
LAST-MODIFIED:20241030T175931Z
UID:10000372-1736966700-1736971800@gracebaptistbirmingham.org
SUMMARY:AWANA
DESCRIPTION:
URL:https://gracebaptistbirmingham.org/event/awana-2/2025-01-15/
CATEGORIES:AWANA,AWANA Workers
END:VEVENT
BEGIN:VEVENT
DTSTART;TZID=America/Detroit:20250114T093000
DTEND;TZID=America/Detroit:20250114T103000
DTSTAMP:20260422T183142
CREATED:20250113T201536Z
LAST-MODIFIED:20250113T201536Z
UID:10000540-1736847000-1736850600@gracebaptistbirmingham.org
SUMMARY:Ladies' Bible Study
DESCRIPTION:“Victorious Believers”
URL:https://gracebaptistbirmingham.org/event/ladies-bible-study-6/2025-01-14/
CATEGORIES:Women
END:VEVENT
BEGIN:VEVENT
DTSTART;TZID=America/Detroit:20250111T170000
DTEND;TZID=America/Detroit:20250111T200000
DTSTAMP:20260422T183142
CREATED:20250113T201311Z
LAST-MODIFIED:20250113T201311Z
UID:10000537-1736614800-1736625600@gracebaptistbirmingham.org
SUMMARY:PrimeTimers' Dinosaurs\, Dips\, Drinks\, and Desserts
DESCRIPTION:
URL:https://gracebaptistbirmingham.org/event/primetimers-dinosaurs-dips-drinks-and-desserts/
CATEGORIES:PrimeTimers
END:VEVENT
BEGIN:VEVENT
DTSTART;TZID=America/New_York:20250108T184500
DTEND;TZID=America/New_York:20250108T201000
DTSTAMP:20260422T183142
CREATED:20240809T155310Z
LAST-MODIFIED:20241030T175931Z
UID:10000371-1736361900-1736367000@gracebaptistbirmingham.org
SUMMARY:AWANA
DESCRIPTION:
URL:https://gracebaptistbirmingham.org/event/awana-2/2025-01-08/
CATEGORIES:AWANA,AWANA Workers
END:VEVENT
BEGIN:VEVENT
DTSTART;TZID=America/Detroit:20250103T120000
DTEND;TZID=America/Detroit:20250103T160000
DTSTAMP:20260422T183142
CREATED:20241211T200414Z
LAST-MODIFIED:20250103T165802Z
UID:10000535-1735905600-1735920000@gracebaptistbirmingham.org
SUMMARY:Teens' After-Holiday Hijinks
DESCRIPTION:
URL:https://gracebaptistbirmingham.org/event/after-holiday-hijinks/
CATEGORIES:Teens
END:VEVENT
BEGIN:VEVENT
DTSTART;TZID=America/Detroit:20241231T190000
DTEND;TZID=America/Detroit:20241231T200000
DTSTAMP:20260422T183142
CREATED:20241218T195415Z
LAST-MODIFIED:20241218T195415Z
UID:10000536-1735671600-1735675200@gracebaptistbirmingham.org
SUMMARY:New Year's Eve Service
DESCRIPTION:A dessert fellowship will follow the service.
URL:https://gracebaptistbirmingham.org/event/new-years-eve-service/
END:VEVENT
BEGIN:VEVENT
DTSTART;VALUE=DATE:20241225
DTEND;VALUE=DATE:20241226
DTSTAMP:20260422T183142
CREATED:20241121T191411Z
LAST-MODIFIED:20241121T191411Z
UID:10000534-1735084800-1735171199@gracebaptistbirmingham.org
SUMMARY:Christmas
DESCRIPTION:
URL:https://gracebaptistbirmingham.org/event/christmas-2/
END:VEVENT
BEGIN:VEVENT
DTSTART;TZID=America/Detroit:20241224T170000
DTEND;TZID=America/Detroit:20241224T180000
DTSTAMP:20260422T183142
CREATED:20241121T191347Z
LAST-MODIFIED:20241121T191347Z
UID:10000533-1735059600-1735063200@gracebaptistbirmingham.org
SUMMARY:Christmas Eve Service
DESCRIPTION:
URL:https://gracebaptistbirmingham.org/event/christmas-eve-service/
END:VEVENT
END:VCALENDAR